BEGIN:VCALENDAR
VERSION:2.0
PRODID:-//Powell Bourbon Club - ECPv6.15.20//NONSGML v1.0//EN
CALSCALE:GREGORIAN
METHOD:PUBLISH
X-WR-CALNAME:Powell Bourbon Club
X-ORIGINAL-URL:https://www.powellbourbonclub.com
X-WR-CALDESC:Events for Powell Bourbon Club
REFRESH-INTERVAL;VALUE=DURATION:PT1H
X-Robots-Tag:noindex
X-PUBLISHED-TTL:PT1H
BEGIN:VTIMEZONE
TZID:America/New_York
BEGIN:DAYLIGHT
TZOFFSETFROM:-0500
TZOFFSETTO:-0400
TZNAME:EDT
DTSTART:20250309T070000
END:DAYLIGHT
BEGIN:STANDARD
TZOFFSETFROM:-0400
TZOFFSETTO:-0500
TZNAME:EST
DTSTART:20251102T060000
END:STANDARD
BEGIN:DAYLIGHT
TZOFFSETFROM:-0500
TZOFFSETTO:-0400
TZNAME:EDT
DTSTART:20260308T070000
END:DAYLIGHT
BEGIN:STANDARD
TZOFFSETFROM:-0400
TZOFFSETTO:-0500
TZNAME:EST
DTSTART:20261101T060000
END:STANDARD
BEGIN:DAYLIGHT
TZOFFSETFROM:-0500
TZOFFSETTO:-0400
TZNAME:EDT
DTSTART:20270314T070000
END:DAYLIGHT
BEGIN:STANDARD
TZOFFSETFROM:-0400
TZOFFSETTO:-0500
TZNAME:EST
DTSTART:20271107T060000
END:STANDARD
END:VTIMEZONE
BEGIN:VEVENT
DTSTART;TZID=America/New_York:20260303T180000
DTEND;TZID=America/New_York:20260303T200000
DTSTAMP:20260422T081319
CREATED:20260226T181521Z
LAST-MODIFIED:20260226T181521Z
UID:836-1772560800-1772568000@www.powellbourbonclub.com
SUMMARY:ECBP Bottle Pickup at Fadó in Dublin
DESCRIPTION:**IF YOU GRABBED A TICKET FOR A BOTTLE\, We will have these available for pickup at Fadó in Dublin this coming TUESDAY\, March 3rd\, from 6pm – 8pm! \nPlease plan on coming by for your pickup during those hours! Cheers!
URL:https://www.powellbourbonclub.com/event/ecbp-bottle-pickup-at-fado-in-dublin/
LOCATION:Fadó – Bridge Park\, 6652 Riverside Drive\, Dublin\, OH\, 43017\, United States
CATEGORIES:Miscellaneous
ATTACH;FMTTYPE=image/jpeg:https://www.powellbourbonclub.com/wp-content/uploads/2026/02/ECBP-Pickup.jpg
END:VEVENT
BEGIN:VEVENT
DTSTART;TZID=America/New_York:20260307T130000
DTEND;TZID=America/New_York:20260307T180000
DTSTAMP:20260422T081319
CREATED:20260218T153554Z
LAST-MODIFIED:20260218T163402Z
UID:812-1772888400-1772906400@www.powellbourbonclub.com
SUMMARY:Middle West Spirits Tour
DESCRIPTION:On Saturday\, March 7th 2026\, Middle West Spirits invites the Powell bourbon club to its new Columbus facilities for a tour and tasting. \nJoin us for this FREE event\, where the PBC will tour Middle West Spirits’ new facility\, and see where the age and produce their spirits! See the state of the art facility where your favorite spirits are made! Learn about maturation\, and Middle West’s barrel philisophy. \nDon’t miss this opportunity! ALL are welcome\, but you must RSVP using the Google form below to attend this FREE event! \nR.S.V.P. To Attend!
URL:https://www.powellbourbonclub.com/event/middle-west-spirits-tour/
LOCATION:Middle West Spirits Alum Creek Distillery\, 1165 Alum Creek Drive\, Columbus\, OH\, 43209\, United States
CATEGORIES:Tour
ATTACH;FMTTYPE=image/jpeg:https://www.powellbourbonclub.com/wp-content/uploads/2026/02/MiddleWest-Tour.jpg
END:VEVENT
BEGIN:VEVENT
DTSTART;TZID=America/New_York:20260318T190000
DTEND;TZID=America/New_York:20260318T210000
DTSTAMP:20260422T081319
CREATED:20251016T160925Z
LAST-MODIFIED:20260220T171701Z
UID:703-1773860400-1773867600@www.powellbourbonclub.com
SUMMARY:PBC Welcomes Chicken Cock Whiskey
DESCRIPTION:Born in the heart of Bourbon county – before bourbon whiskey was “Bourbon” \nIn 1856\, James A. Miller built a distillery and started making Chicken Cock Whiskey in Paris\, Kentucky. After his death\, Miller left the business to a trusted distillery clerk\, George G. White\, who made Chicken Cock into the legend it became. \n\n\n                \n                        \n                            PBC March Meeting Registration - Chicken Cock Whiskey\n                            Wednesday\, March 18th\, 2026 • 7pm-9pm \n\nPurchase your ticket to our March Meeting\, featuring Chicken Cock Whiskey. \n                        \n                        Contact DetailsName(Required)\n                            \n                            \n                                                    First\n                                                    \n                                                \n                            \n                            \n                                                            Last\n                                                            \n                                                        \n                            \n                        Email(Required)\n                                \n                                    Enter Email\n                                    \n                                \n                                \n                                    Confirm Email\n                                    \n                                \n                                \n                            PhoneAddress(Required)    \n                    \n                         \n                                        Street Address\n                                        \n                                   \n                                        Address Line 2\n                                        \n                                    \n                                    City\n                                    \n                                 \n                                        State\n                                        AlabamaAlaskaAmerican SamoaArizonaArkansasCaliforniaColoradoConnecticutDelawareDistrict of ColumbiaFloridaGeorgiaGuamHawaiiIdahoIllinoisIndianaIowaKansasKentuckyLouisianaMaineMarylandMassachusettsMichiganMinnesotaMississippiMissouriMontanaNebraskaNevadaNew HampshireNew JerseyNew MexicoNew YorkNorth CarolinaNorth DakotaNorthern Mariana IslandsOhioOklahomaOregonPennsylvaniaPuerto RicoRhode IslandSouth CarolinaSouth DakotaTennesseeTexasUtahU.S. Virgin IslandsVermontVirginiaWashingtonWest VirginiaWisconsinWyomingArmed Forces AmericasArmed Forces EuropeArmed Forces Pacific\n                                      \n                                    ZIP Code\n                                    \n                                \n                    \n                Event DetailsHow Many Tickets are Needed?(Required)(Maximum 2 Per Registration)Please enter a number from 1 to 2.Are you a PBC Member?(Required)**PLEASE SELECT**YesNoOnly choose YES if you are a 2026 PAID-TIER Member (Bottled-in-Bond or Barrel Proof). Paid Members are eligible to receive discounted tickets. Your response will be verified prior-to the meeting. How did you hear about this event?Social MediaGoogleWord of MouthReferred by a FriendPast ParticipantOtherMarch Meeting Ticket19 {item/items} Tickets AvailableBiB and Barrel Proof Member DiscountThis pricing is intended for paid membership tiers only. We will confirm your membership level when purchasing this ticket. The member is entitled to receive a $10 discount on their own ticket.\n					\n					\n						Price:\n						\n					\n					\n				Your are purchasing ONE (1) TICKETYour are purchasing TWO (2) TICKETSYour Total\n							\n						Credit Card(Required)\n			\n          \n            \n            \n            \n            \n            \n            \n            \n            \n            \n            \n            \n            \n            \n        \n                        \n                        \n\n 
URL:https://www.powellbourbonclub.com/event/pbc-welcomes-chicken-cock-whiskey/
LOCATION:Prohibition\, 21 W. Olentangy Street\, Powell\, OH\, 43065\, United States
CATEGORIES:Meetings
ATTACH;FMTTYPE=image/jpeg:https://www.powellbourbonclub.com/wp-content/uploads/2025/10/ChckCock-March.jpg
END:VEVENT
END:VCALENDAR