BEGIN:VCALENDAR
VERSION:2.0
PRODID:-//Powell Bourbon Club - ECPv6.15.20//NONSGML v1.0//EN
CALSCALE:GREGORIAN
METHOD:PUBLISH
X-WR-CALNAME:Powell Bourbon Club
X-ORIGINAL-URL:https://www.powellbourbonclub.com
X-WR-CALDESC:Events for Powell Bourbon Club
REFRESH-INTERVAL;VALUE=DURATION:PT1H
X-Robots-Tag:noindex
X-PUBLISHED-TTL:PT1H
BEGIN:VTIMEZONE
TZID:America/New_York
BEGIN:DAYLIGHT
TZOFFSETFROM:-0500
TZOFFSETTO:-0400
TZNAME:EDT
DTSTART:20230312T070000
END:DAYLIGHT
BEGIN:STANDARD
TZOFFSETFROM:-0400
TZOFFSETTO:-0500
TZNAME:EST
DTSTART:20231105T060000
END:STANDARD
BEGIN:DAYLIGHT
TZOFFSETFROM:-0500
TZOFFSETTO:-0400
TZNAME:EDT
DTSTART:20240310T070000
END:DAYLIGHT
BEGIN:STANDARD
TZOFFSETFROM:-0400
TZOFFSETTO:-0500
TZNAME:EST
DTSTART:20241103T060000
END:STANDARD
BEGIN:DAYLIGHT
TZOFFSETFROM:-0500
TZOFFSETTO:-0400
TZNAME:EDT
DTSTART:20250309T070000
END:DAYLIGHT
BEGIN:STANDARD
TZOFFSETFROM:-0400
TZOFFSETTO:-0500
TZNAME:EST
DTSTART:20251102T060000
END:STANDARD
BEGIN:DAYLIGHT
TZOFFSETFROM:-0500
TZOFFSETTO:-0400
TZNAME:EDT
DTSTART:20260308T070000
END:DAYLIGHT
BEGIN:STANDARD
TZOFFSETFROM:-0400
TZOFFSETTO:-0500
TZNAME:EST
DTSTART:20261101T060000
END:STANDARD
END:VTIMEZONE
BEGIN:VEVENT
DTSTART;TZID=America/New_York:20251022T190000
DTEND;TZID=America/New_York:20251022T210000
DTSTAMP:20260422T181235
CREATED:20250321T194130Z
LAST-MODIFIED:20251016T151938Z
UID:516-1761159600-1761166800@www.powellbourbonclub.com
SUMMARY:PBC Welcomes Heaven Hill Distillery
DESCRIPTION:THIS EVENT HAS SOLD OUT!\nCome and join the PBC as we welcome Cailey from Heaven Hill Brands\, as she walks us through the history and offerings from the distillery! \nAbout Heaven Hill Brands\nNestled in the heart of historic Bardstown\, there’s something for every American Whiskey fan at this official stop on the Kentucky Bourbon Trail®. Immerse yourself in the Heaven Hill Bourbon Experience®\, where you can discover our heritage\, taste our traditions and raise a glass to the fine art of whiskey making. Or go behind-the-scenes at the all-new Heaven Hill Springs Distillery\, and see for yourself how we craft your favorite products. \n\n\nTHIS EVENT HAS SOLD OUT!
URL:https://www.powellbourbonclub.com/event/pbc-welcomes-heaven-hill-distillery/
LOCATION:Prohibition\, 21 W. Olentangy Street\, Powell\, OH\, 43065\, United States
CATEGORIES:Meetings
ATTACH;FMTTYPE=image/jpeg:https://www.powellbourbonclub.com/wp-content/uploads/2025/10/HeavenHill-soldout-min.jpg
END:VEVENT
BEGIN:VEVENT
DTSTART;TZID=America/New_York:20250917T190000
DTEND;TZID=America/New_York:20250917T210000
DTSTAMP:20260422T181235
CREATED:20250422T002534Z
LAST-MODIFIED:20250825T191156Z
UID:542-1758135600-1758142800@www.powellbourbonclub.com
SUMMARY:PBC Welcomes Angel's Envy
DESCRIPTION:Come and join the PBC as we welcome AJ\, the Angel’s Envy Specialist for Ohio\, as he walks us through the history and offerings from the distillery! Mark your calendars\, and keep watching here for details! \nTickets for this event will be available approximately 30 days in advance of the event! Stay Tuned! \nAbout Angel’s Envy\nIn the heart of Louisville\, Kentucky\, Angel’s Envy was founded by Bourbon Hall of Fame member and Master Distiller\, Lincoln Henderson\, and his son Wes Henderson. \nBuilt on a tremendous legacy and a pioneering spirit\, Angel’s Envy innovated the foundations of bourbon and rye through a unique “secondary finishing” technique. By maturing our whiskey in charred oak barrels\, then transferring it to secondary finishing casks\, we crafted a distinct blend of refined complexity with an inviting flavor profile. \nDuring the aging process\, the 5% of spirit lost each year is known as the “Angel’s Share.” After tasting our finished whiskey\, Lincoln joked that we had finally struck a better deal than the angels. And so\, Angel’s Envy was born. \nOur past is now paving the path for the future of bourbon. Today\, we are driven by the same commitment to challenge the status quo. As restless pioneers\, we’re always searching for what’s next\, and inspiring new possibilities in the world of bourbon. \nWe now invite you to become a part of our story. Whether you’re a seasoned bourbon aficionado or a curious newcomer\, join us on our journey to raise the bar and deliver a truly timeless bourbon experience. \n  \nSorry!This Event has SOLD OUT. Join us for our next meeting! CHECK THE CALENDAR OF EVENT
URL:https://www.powellbourbonclub.com/event/pbc-welcomes-angels-envy/
LOCATION:Prohibition\, 21 W. Olentangy Street\, Powell\, OH\, 43065\, United States
CATEGORIES:Meetings
ATTACH;FMTTYPE=image/jpeg:https://www.powellbourbonclub.com/wp-content/uploads/2025/04/AngelsEnvy.jpg
END:VEVENT
BEGIN:VEVENT
DTSTART;TZID=America/New_York:20250820T190000
DTEND;TZID=America/New_York:20250820T210000
DTSTAMP:20260422T181235
CREATED:20250314T143847Z
LAST-MODIFIED:20250722T182414Z
UID:502-1755716400-1755723600@www.powellbourbonclub.com
SUMMARY:PBC Welcomes New Riff Distilling
DESCRIPTION:Come and join the PBC as we welcome New Riff\, as they walks us through the history and offerings from the distillery! Mark your calendars\, and get your tickets today! This meeting will be held at Prohibition Gastro Lounge in Powell!\n \n\n\nAbout New Riff\n\nFounded in 2014 by visionary Kentucky liquor retailer and entrepreneur\, Ken Lewis\, New Riff crafts a range of award-winning bourbon\, rye\, single malt whiskey and gin. Located in Northern Kentucky — the gateway to bourbon country — New Riff is 100% family owned – and we plan to stay that way. \nEvery bottle we make is a distillation of who we are and the incredibly high standards that are part of our DNA. You won’t find any shortcuts here. New Riff makes whiskey the hard way. Our flagship whiskeys are Bottled In Bond Without Chill Filtration\, reflecting our commitment to one of the world’s highest quality standards. \nLocated directly beneath the distillery is an alluvial aquifer. This naturally occurring water source is an essential part of our production process and its clean\, cool\, limestone-rich water is part of what gives our whiskeys their unique flavor. With passion and knowledge born from one of the world’s great spirit regions\, our talented team is individually committed to doing things the right way. We are firmly grounded in Kentucky’s revered Bourbon legacy\, but this is our riff\, and we hope to one day be considered one of the great small distilleries of the world. \n\nSorry!This Event has SOLD OUT. Join us for our next meeting! CHECK THE CALENDAR OF EVENT
URL:https://www.powellbourbonclub.com/event/pbc-welcomes-new-riff-distilling/
LOCATION:Prohibition\, 21 W. Olentangy Street\, Powell\, OH\, 43065\, United States
CATEGORIES:Meetings
ATTACH;FMTTYPE=image/jpeg:https://www.powellbourbonclub.com/wp-content/uploads/2025/03/NewRiff.jpg
END:VEVENT
BEGIN:VEVENT
DTSTART;TZID=America/New_York:20250815T140000
DTEND;TZID=America/New_York:20250815T170000
DTSTAMP:20260422T181235
CREATED:20250716T205901Z
LAST-MODIFIED:20250814T221004Z
UID:617-1755266400-1755277200@www.powellbourbonclub.com
SUMMARY:Elijah Craig Barrel Selection
DESCRIPTION:﻿This is it. A rare opportunity to go behind the scenes of the Heaven Hill Distillery\, and venture deep into the rickhouses at their home in Bardstown to taste\, test and select our own Powell Bourbon Club Elijah Craig Private Barrel. \nThese Private Barrel Selections are made possible by our members; we count on you to participate\, purchase and enjoy these bottles! Details on the bottles\, as well as the opportunity to reserve a bottle are coming soon!
URL:https://www.powellbourbonclub.com/event/elijah-craig-barrel-selection/
LOCATION:Heaven Hill Distillery\, 1311 Gilkey Run Road\, Bardstown\, KY\, 40004\, United States
CATEGORIES:Barrel Picks
ATTACH;FMTTYPE=image/jpeg:https://www.powellbourbonclub.com/wp-content/uploads/2025/07/EC-Barrel-Selection-1.jpg
END:VEVENT
BEGIN:VEVENT
DTSTART;TZID=America/New_York:20250729T190000
DTEND;TZID=America/New_York:20250729T210000
DTSTAMP:20260422T181235
CREATED:20250716T204423Z
LAST-MODIFIED:20250716T204423Z
UID:613-1753815600-1753822800@www.powellbourbonclub.com
SUMMARY:Elijah Craig Tasting at Fadó - Help Us Decide!
DESCRIPTION:** SPACE IS LIMITED – Please Email Us (info@powellbourbonclub.com) if you are interested in attending! We can accept 12 Individuals ** \nReservations Required – Come and join us at Fadó Bridge Park on Tuesday\, July 29th at 7pm\, and help us sample\, and decide whether we will be seeking a Barrel Proof or Standard Proof Elijah Craig club bottle for our August pick! \nFadó has prepared a sampling of three bottles – their own Private Barrels – both Barrel and Standard Proof. Once we have tried them all\, we will make a decision on which strength we will choose for our Barrel Pick at Heaven Hill in August! \nThe cost is $35.00 per person\, and will be paid at the door to the venue on the evening of the event. \nInterested? Please Email Us (info@powellbourbonclub.com) to let us know you’d like to attend! Space is limited\, so we will confirm with you once you have let us know that you’d like to attend. \nCheers\, friends!
URL:https://www.powellbourbonclub.com/event/elijah-craig-tasting-at-fado-help-us-decide/
LOCATION:Fadó – Bridge Park\, 6652 Riverside Drive\, Dublin\, OH\, 43017\, United States
CATEGORIES:Tastings
ATTACH;FMTTYPE=image/jpeg:https://www.powellbourbonclub.com/wp-content/uploads/2025/07/Fado-Tasting.jpg
END:VEVENT
BEGIN:VEVENT
DTSTART;TZID=America/New_York:20250725T183000
DTEND;TZID=America/New_York:20250725T220000
DTSTAMP:20260422T181235
CREATED:20250625T145922Z
LAST-MODIFIED:20250625T145922Z
UID:606-1753468200-1753480800@www.powellbourbonclub.com
SUMMARY:PBC Christmas In July Cookout
DESCRIPTION:﻿﻿ \nSPOUSES/PARTNERS WELCOME For our Holiday Meeting! This meeting will be held at “The Nut” in Powell (Shawnee Hills). The Nut is a private club – address and directions can be found below! \nPlease bring a bottle to share and enjoy\, and we will be serving Burgers\, Brats\, and sides! We will also be serving up a special Holiday-Themed whiskey cocktail\, as well as domestic beers. Come help us celebrate our club’s members and its’ success during our first official year!
URL:https://www.powellbourbonclub.com/event/pbc-christmas-in-july-cookout/
LOCATION:The Nut Powell\, 9280 Dublin Road\, Powell\, OH\, 43065\, United States
CATEGORIES:Meetings
ATTACH;FMTTYPE=image/jpeg:https://www.powellbourbonclub.com/wp-content/uploads/2025/06/Xmas-In-July.jpg
END:VEVENT
BEGIN:VEVENT
DTSTART;TZID=America/New_York:20250618T190000
DTEND;TZID=America/New_York:20250618T210000
DTSTAMP:20260422T181235
CREATED:20250203T205111Z
LAST-MODIFIED:20250604T010231Z
UID:416-1750273200-1750280400@www.powellbourbonclub.com
SUMMARY:PBC Welcomes McBrayer Legacy Spirits
DESCRIPTION:**THIS WILL BE A WEDNESDAY MEETING** Come and join us for our June meeting and tasting\, where we will have our special guest\, Bill McBrayer from McBrayer Legacy Spirits! Our first-every club barrel pick (Cedar Brook) was produced by McBrayer – this will be a great night! Bill will be discussing McBrayer\, their history and products\, and members will be sampling and learning! See you there! \nBuffet-Style Dinner will be served as well! \n\n\n                \n                        \n                            PBC June Meeting Registration - McBrayer Legacy Spirits\n                            Wednesday\, June 18th\, 2025 • 7pm-9pm \n\nPurchase your ticket to our June Meeting\, featuring McBrayer Legacy Spirits - the distillery behind our club's first-every barrel pick! Bill McBrayer will walks us through the history and offerings from the distillery! This is one you won’t want to miss! ! The $25 ticket provides a buffet style dinner\, as well as the guest craft distiller presentation.  \n                        \n                        Contact DetailsName(Required)\n                            \n                            \n                                                    First\n                                                    \n                                                \n                            \n                            \n                                                            Last\n                                                            \n                                                        \n                            \n                        Email(Required)\n                                \n                                    Enter Email\n                                    \n                                \n                                \n                                    Confirm Email\n                                    \n                                \n                                \n                            PhoneAddress(Required)    \n                    \n                         \n                                        Street Address\n                                        \n                                   \n                                        Address Line 2\n                                        \n                                    \n                                    City\n                                    \n                                 \n                                        State\n                                        AlabamaAlaskaAmerican SamoaArizonaArkansasCaliforniaColoradoConnecticutDelawareDistrict of ColumbiaFloridaGeorgiaGuamHawaiiIdahoIllinoisIndianaIowaKansasKentuckyLouisianaMaineMarylandMassachusettsMichiganMinnesotaMississippiMissouriMontanaNebraskaNevadaNew HampshireNew JerseyNew MexicoNew YorkNorth CarolinaNorth DakotaNorthern Mariana IslandsOhioOklahomaOregonPennsylvaniaPuerto RicoRhode IslandSouth CarolinaSouth DakotaTennesseeTexasUtahU.S. Virgin IslandsVermontVirginiaWashingtonWest VirginiaWisconsinWyomingArmed Forces AmericasArmed Forces EuropeArmed Forces Pacific\n                                      \n                                    ZIP Code\n                                    \n                                \n                    \n                Event Details5 June Meeting Tickets RemainingHow Many Tickets are Needed?(Required)(Maximum 2 Per Registration)Please enter a number from 1 to 2.Are you a PBC Paid Member?(Required)**PLEASE SELECT**YesNoHow did you hear about this event?Social MediaGoogleWord of MouthReferred by a FriendPast ParticipantOtherSection BreakJune Meeting Ticket5 {item/items} Tickets AvailableTotal\n							\n						Credit Card(Required)
URL:https://www.powellbourbonclub.com/event/pbc-welcomes-mcbrayer-legacy-spirits/
LOCATION:The Nut Powell\, 9280 Dublin Road\, Powell\, OH\, 43065\, United States
CATEGORIES:Meetings
ATTACH;FMTTYPE=image/jpeg:https://www.powellbourbonclub.com/wp-content/uploads/2025/02/June.jpg
END:VEVENT
BEGIN:VEVENT
DTSTART;TZID=America/New_York:20250520T190000
DTEND;TZID=America/New_York:20250520T210000
DTSTAMP:20260422T181235
CREATED:20250122T210311Z
LAST-MODIFIED:20250424T152841Z
UID:382-1747767600-1747774800@www.powellbourbonclub.com
SUMMARY:PBC Welcomes Buzzard's Roost
DESCRIPTION:﻿Sorry! – This Event has SOLD OUT\nWe are very excited to welcome Ryan Hitch from Buzzard’s Roost for our May meeting! We’ll be tasting and learning about the special products offered by the distillery! Tickets for this event will be available for PAID MEMBERS beginning Friday\, April 18th\, and for all others beginning on Monday\, April 21st\, 2025 – You won’t want to miss this one! \nBuffet-Style Dinner will be served as well! We look forward to seeing you there! \n\nSorry. This form is no longer available.
URL:https://www.powellbourbonclub.com/event/pbc-welcomes-buzzards-roost/
LOCATION:The Lodge at Nocterra Brewing\, 47 Depot Street\, Powell\, OH\, 43065\, United States
CATEGORIES:Meetings
ATTACH;FMTTYPE=image/jpeg:https://www.powellbourbonclub.com/wp-content/uploads/2025/04/May-Sold-Out.jpg
END:VEVENT
BEGIN:VEVENT
DTSTART;TZID=America/New_York:20250516T120000
DTEND;TZID=America/New_York:20250516T160000
DTSTAMP:20260422T181235
CREATED:20250319T161650Z
LAST-MODIFIED:20250319T164552Z
UID:506-1747396800-1747411200@www.powellbourbonclub.com
SUMMARY:PBC Private Knob Creek Barrel Selection
DESCRIPTION:This is it. A rare opportunity to go behind the scenes of the James B. Beam Distilling Co. and venture deep into the rackhouses at their home in Clermont to taste\, test and select our own Powell Bourbon Club Knob Creek single barrel. \nIn over 225 years\, this experience has been awarded to only a select few. Now\, is our club’s chance to follow in the footsteps of Beam® legends and become part of the family. \nWe have selected our PBC Team for this selection\, and will be emailing those members privately to keep everyone in the loop! \nThese Private Barrel Selections are made possible by our members; we count on you to participate\, purchase and enjoy these bottles! Details on the bottles\, as well as the opportunity to reserve a bottle are coming soon!
URL:https://www.powellbourbonclub.com/event/pbc-private-knob-creek-barrel-selection/
LOCATION:James B. Beam Distilling Co.\, 568 Happy Hollow Road\, Clermont\, KY\, 40110\, United States
CATEGORIES:Barrel Picks
ATTACH;FMTTYPE=image/jpeg:https://www.powellbourbonclub.com/wp-content/uploads/2025/03/Knob-Creek-Selection.jpg
END:VEVENT
BEGIN:VEVENT
DTSTART;TZID=America/New_York:20250415T190000
DTEND;TZID=America/New_York:20250415T210000
DTSTAMP:20260422T181235
CREATED:20241214T012049Z
LAST-MODIFIED:20250326T185028Z
UID:305-1744743600-1744750800@www.powellbourbonclub.com
SUMMARY:PBC Welcomes Old Forester/Brown-Forman
DESCRIPTION:﻿**THIS EVENT HAS SOLD OUT**\n﻿Come and join the PBC as we welcome Brown-Forman’s own Abassador “Whiskey Pete”\, as he walks us through the history and offerings from Old Forester! This is one you won’t want to miss! Mark your calendars\, and we’ll see you on the 15th! \n** This event has SOLD OUT – Thank You! **Tickets became available for PAID members on Friday\, 3/21/25\, and for PUBLIC SALE on Monday\, 3/24/25! A Buffet-Style Dinner will be served as well! Register Today! \n\nSorry!This Event has SOLD OUT. Join us for our next meeting! CHECK THE CALENDAR OF EVENTS HERE!
URL:https://www.powellbourbonclub.com/event/pbc-welcomes-old-forester/
LOCATION:The Lodge at Nocterra Brewing\, 47 Depot Street\, Powell\, OH\, 43065\, United States
CATEGORIES:Meetings
ATTACH;FMTTYPE=image/jpeg:https://www.powellbourbonclub.com/wp-content/uploads/2025/03/April-Sold-Out.jpg
END:VEVENT
BEGIN:VEVENT
DTSTART;TZID=America/New_York:20250318T190000
DTEND;TZID=America/New_York:20250318T210000
DTSTAMP:20260422T181235
CREATED:20241112T231429Z
LAST-MODIFIED:20250530T171411Z
UID:269-1742324400-1742331600@www.powellbourbonclub.com
SUMMARY:PBC Welcomes Bardstown Bourbon Company/Green River Distilling Co.
DESCRIPTION:**THIS EVENT HAS SOLD OUT**\nWe are very excited to welcome Bardstown Bourbon Company! We’ll be learning about the special products offered by Bardstown and Green River! This is sure to be another great event – you won’t want to miss this! \nAbout Bardstown Bourbon Company\nCuriosity can lead you to some incredible places. It’s what called them to Kentucky in 2016 to build a distillery like no other. And they haven’t stopped innovating since. From their glass rickhouses\, to a Napa Valley style tour\, Bardstown is pushing the boundaries of bourbon like no one has before. Not because they’re particularly fond of bending the rules\, but rather to re-imagine what the category could be. One that’s more innovative\, transparent and collaborative. Because if you want to create an entirely new bourbon experience\, you can never stop exploring. Never stop discovering. Never stand still. \nTickets for this event will be available to our paid-tier members 48 hours in advance of the general public sales – a Buffet-Style Dinner will be served as well! \n\nSorry!This Event has SOLD OUT. Join us for our next meeting! CHECK THE CALENDAR OF EVENTS HERE!
URL:https://www.powellbourbonclub.com/event/pbc-welcomes-bardstown-bourbon-company/
LOCATION:OH
CATEGORIES:Meetings
ATTACH;FMTTYPE=image/jpeg:https://www.powellbourbonclub.com/wp-content/uploads/2024/11/March.jpg
END:VEVENT
BEGIN:VEVENT
DTSTART;TZID=America/New_York:20250219T190000
DTEND;TZID=America/New_York:20250219T210000
DTSTAMP:20260422T181235
CREATED:20241113T194101Z
LAST-MODIFIED:20250216T013617Z
UID:274-1739991600-1739998800@www.powellbourbonclub.com
SUMMARY:PBC February Meeting with High Bank Distillery
DESCRIPTION:WEDNESDAY MEETING – Come and join us for our February meeting\, at Nocterra’s Lodge Event Space (just North of the brewery)\, where we will have our special guest\, High Bank Distillery! Samantha from High Bank will be discussing their products\, and members will be sampling and learning! See you there! \n\nTickets for this event are available below – Buffet-Style Dinner will be served as well! Stay Tuned! \nSorry!The Date of This Event has Passed. Join us for our next meeting! CHECK THE CALENDAR OF EVENTS HERE!
URL:https://www.powellbourbonclub.com/event/pbc-february-meeting-with-high-bank-distillery/
LOCATION:The Lodge at Nocterra Brewing\, 47 Depot Street\, Powell\, OH\, 43065\, United States
CATEGORIES:Meetings
ATTACH;FMTTYPE=image/jpeg:https://www.powellbourbonclub.com/wp-content/uploads/2024/11/High-Bank.jpg
END:VEVENT
BEGIN:VEVENT
DTSTART;TZID=America/New_York:20250121T190000
DTEND;TZID=America/New_York:20250121T210000
DTSTAMP:20260422T181235
CREATED:20241107T192725Z
LAST-MODIFIED:20250529T222634Z
UID:258-1737486000-1737493200@www.powellbourbonclub.com
SUMMARY:January PBC Meeting - with Watershed Distillery
DESCRIPTION:This is a Ticketed Event – Register Today!\nCome and join us for our January meeting\, where we will have our special guest\, Watershed Distillery! We will be discussing their products\, sampling and learning! See you there!
URL:https://www.powellbourbonclub.com/event/january-pbc-meeting/
LOCATION:OH
CATEGORIES:Meetings
ATTACH;FMTTYPE=image/jpeg:https://www.powellbourbonclub.com/wp-content/uploads/2024/11/January.jpg
END:VEVENT
BEGIN:VEVENT
DTSTART;TZID=America/New_York:20241217T190000
DTEND;TZID=America/New_York:20241217T210000
DTSTAMP:20260422T181235
CREATED:20241107T200626Z
LAST-MODIFIED:20250208T181905Z
UID:262-1734462000-1734469200@www.powellbourbonclub.com
SUMMARY:December Holiday PBC Meeting
DESCRIPTION:SPOUSES/PARTNERS WELCOME For our Holiday Meeting! This meeting will be held at “The Nut” in Powell (Shawnee Hills)\, and will be a ticketed event. The Nut is a private club – address and directions to follow. \nPlease bring a bottle to share and enjoy\, and we will be serving heavy hors d’oeuvres (Sharecuterie\, Wings\, Pizza)\, and serving up a special Holiday-Themed whiskey cocktail\, as well as domestic beers. Come help us celebrate as we head into our club’s first official full year!
URL:https://www.powellbourbonclub.com/event/december-holiday-pbc-meeting/
LOCATION:The Nut Powell\, 9280 Dublin Road\, Powell\, OH\, 43065\, United States
CATEGORIES:Meetings
ATTACH;FMTTYPE=image/jpeg:https://www.powellbourbonclub.com/wp-content/uploads/2024/11/Holiday-Party.jpg
END:VEVENT
BEGIN:VEVENT
DTSTART;TZID=America/New_York:20241119T190000
DTEND;TZID=America/New_York:20241119T210000
DTSTAMP:20260422T181235
CREATED:20241025T184634Z
LAST-MODIFIED:20250530T162125Z
UID:101-1732042800-1732050000@www.powellbourbonclub.com
SUMMARY:November PBC Meeting
DESCRIPTION:Come out and join us for our November PBC Meeting! \nWe will be discussing Barrel Pick opportunities\, and membership options. \nSee you there!
URL:https://www.powellbourbonclub.com/event/101/
LOCATION:The Lodge at Nocterra Brewing\, 47 Depot Street\, Powell\, OH\, 43065\, United States
CATEGORIES:Meetings
ATTACH;FMTTYPE=image/jpeg:https://www.powellbourbonclub.com/wp-content/uploads/2024/10/465697792_10169778002935313_4639026914018054541_n.jpg
END:VEVENT
END:VCALENDAR