BEGIN:VCALENDAR
VERSION:2.0
PRODID:-//Powell Bourbon Club - ECPv6.15.20//NONSGML v1.0//EN
CALSCALE:GREGORIAN
METHOD:PUBLISH
X-WR-CALNAME:Powell Bourbon Club
X-ORIGINAL-URL:https://www.powellbourbonclub.com
X-WR-CALDESC:Events for Powell Bourbon Club
REFRESH-INTERVAL;VALUE=DURATION:PT1H
X-Robots-Tag:noindex
X-PUBLISHED-TTL:PT1H
BEGIN:VTIMEZONE
TZID:America/New_York
BEGIN:DAYLIGHT
TZOFFSETFROM:-0500
TZOFFSETTO:-0400
TZNAME:EDT
DTSTART:20240310T070000
END:DAYLIGHT
BEGIN:STANDARD
TZOFFSETFROM:-0400
TZOFFSETTO:-0500
TZNAME:EST
DTSTART:20241103T060000
END:STANDARD
BEGIN:DAYLIGHT
TZOFFSETFROM:-0500
TZOFFSETTO:-0400
TZNAME:EDT
DTSTART:20250309T070000
END:DAYLIGHT
BEGIN:STANDARD
TZOFFSETFROM:-0400
TZOFFSETTO:-0500
TZNAME:EST
DTSTART:20251102T060000
END:STANDARD
BEGIN:DAYLIGHT
TZOFFSETFROM:-0500
TZOFFSETTO:-0400
TZNAME:EDT
DTSTART:20260308T070000
END:DAYLIGHT
BEGIN:STANDARD
TZOFFSETFROM:-0400
TZOFFSETTO:-0500
TZNAME:EST
DTSTART:20261101T060000
END:STANDARD
END:VTIMEZONE
BEGIN:VEVENT
DTSTART;TZID=America/New_York:20250318T190000
DTEND;TZID=America/New_York:20250318T210000
DTSTAMP:20260421T065046
CREATED:20241112T231429Z
LAST-MODIFIED:20250530T171411Z
UID:269-1742324400-1742331600@www.powellbourbonclub.com
SUMMARY:PBC Welcomes Bardstown Bourbon Company/Green River Distilling Co.
DESCRIPTION:**THIS EVENT HAS SOLD OUT**\nWe are very excited to welcome Bardstown Bourbon Company! We’ll be learning about the special products offered by Bardstown and Green River! This is sure to be another great event – you won’t want to miss this! \nAbout Bardstown Bourbon Company\nCuriosity can lead you to some incredible places. It’s what called them to Kentucky in 2016 to build a distillery like no other. And they haven’t stopped innovating since. From their glass rickhouses\, to a Napa Valley style tour\, Bardstown is pushing the boundaries of bourbon like no one has before. Not because they’re particularly fond of bending the rules\, but rather to re-imagine what the category could be. One that’s more innovative\, transparent and collaborative. Because if you want to create an entirely new bourbon experience\, you can never stop exploring. Never stop discovering. Never stand still. \nTickets for this event will be available to our paid-tier members 48 hours in advance of the general public sales – a Buffet-Style Dinner will be served as well! \n\nSorry!This Event has SOLD OUT. Join us for our next meeting! CHECK THE CALENDAR OF EVENTS HERE!
URL:https://www.powellbourbonclub.com/event/pbc-welcomes-bardstown-bourbon-company/
LOCATION:OH
CATEGORIES:Meetings
ATTACH;FMTTYPE=image/jpeg:https://www.powellbourbonclub.com/wp-content/uploads/2024/11/March.jpg
END:VEVENT
END:VCALENDAR